BEGIN:VCALENDAR
VERSION:2.0
PRODID:-//Stix Cigar Shop and Club - ECPv6.15.20//NONSGML v1.0//EN
CALSCALE:GREGORIAN
METHOD:PUBLISH
X-WR-CALNAME:Stix Cigar Shop and Club
X-ORIGINAL-URL:https://www.stixsmokes.com
X-WR-CALDESC:Events for Stix Cigar Shop and Club
REFRESH-INTERVAL;VALUE=DURATION:PT1H
X-Robots-Tag:noindex
X-PUBLISHED-TTL:PT1H
BEGIN:VTIMEZONE
TZID:America/New_York
BEGIN:DAYLIGHT
TZOFFSETFROM:-0500
TZOFFSETTO:-0400
TZNAME:EDT
DTSTART:20240310T070000
END:DAYLIGHT
BEGIN:STANDARD
TZOFFSETFROM:-0400
TZOFFSETTO:-0500
TZNAME:EST
DTSTART:20241103T060000
END:STANDARD
BEGIN:DAYLIGHT
TZOFFSETFROM:-0500
TZOFFSETTO:-0400
TZNAME:EDT
DTSTART:20250309T070000
END:DAYLIGHT
BEGIN:STANDARD
TZOFFSETFROM:-0400
TZOFFSETTO:-0500
TZNAME:EST
DTSTART:20251102T060000
END:STANDARD
BEGIN:DAYLIGHT
TZOFFSETFROM:-0500
TZOFFSETTO:-0400
TZNAME:EDT
DTSTART:20260308T070000
END:DAYLIGHT
BEGIN:STANDARD
TZOFFSETFROM:-0400
TZOFFSETTO:-0500
TZNAME:EST
DTSTART:20261101T060000
END:STANDARD
END:VTIMEZONE
BEGIN:VEVENT
DTSTART;TZID=America/New_York:20250423T160000
DTEND;TZID=America/New_York:20250423T210000
DTSTAMP:20260420T102648
CREATED:20250226T183940Z
LAST-MODIFIED:20250226T184004Z
UID:10000015-1745424000-1745442000@www.stixsmokes.com
SUMMARY:Kristoff Cigar Event
DESCRIPTION:Join us in welcoming a NEW cigar company into our humidor! Come Meet Veronika from Kristoff cigars as she offers deals that can’t be beat! We will Have FREE food\, Good Company\, and a lot of laughs! This is a FREE event hope to see you here!
URL:https://www.stixsmokes.com/event/kristoff-cigar-event/
LOCATION:NJ
ATTACH;FMTTYPE=image/jpeg:https://www.stixsmokes.com/wp-content/uploads/2025/02/Kristoff-Event-25.jpg
END:VEVENT
BEGIN:VEVENT
DTSTART;TZID=America/New_York:20250502T160000
DTEND;TZID=America/New_York:20250502T210000
DTSTAMP:20260420T102648
CREATED:20250226T185718Z
LAST-MODIFIED:20250226T185718Z
UID:10000016-1746201600-1746219600@www.stixsmokes.com
SUMMARY:Altadis Cigar Event
DESCRIPTION:Calling all Golfers\, BBQ fans\, Vacation goers this is the event for you! This is the one time a year that we will have HUGE discounts on your favorite stogies! Brands included are Montecristo\, Romeo y Julieta\, H Upmann\, Trinidad\, Aging Room etc. We will have all kinds of FREE goods with purchase of any of the brands mentioned above! Hope to see you here!
URL:https://www.stixsmokes.com/event/altadis-cigar-event/
LOCATION:NJ
ATTACH;FMTTYPE=image/jpeg:https://www.stixsmokes.com/wp-content/uploads/2025/02/Altadis-event-25.jpg
END:VEVENT
BEGIN:VEVENT
DTSTART;TZID=America/New_York:20250607T130000
DTEND;TZID=America/New_York:20250607T210000
DTSTAMP:20260420T102648
CREATED:20240322T224439Z
LAST-MODIFIED:20250226T182418Z
UID:10000006-1749301200-1749330000@www.stixsmokes.com
SUMMARY:Drew Estate Annual Pig Roast
DESCRIPTION:  \nJoin us for our most famous event the Annual Drew Estate Pig Roast/BBQ! Meet our guy Drew Estate brand ambassador Pedro! Our featured cigars will be the Liga Privada H99\, 10 Anniversario\, T52\, and No 9! We will have amazing deals on all Drew Estate cigars up to 25% off! This is an event you cannot miss. Included in your ticket \n\nRoasted Pig\, BBQ food\, & refreshments\n3  live bands throughout the day\nThe best swag in the industry\nRaffles and giveaways!\nNetworking Opportunities
URL:https://www.stixsmokes.com/event/drew-estate-annual-pig-roast/
LOCATION:Stix Lounge\, 440 Route 23 North\, Pequannock\, NJ\, 07444\, United States
ATTACH;FMTTYPE=image/jpeg:https://www.stixsmokes.com/wp-content/uploads/2024/03/Pig-roast-25.jpg
END:VEVENT
BEGIN:VEVENT
DTSTART;TZID=America/New_York:20251018T140000
DTEND;TZID=America/New_York:20251018T200000
DTSTAMP:20260420T102648
CREATED:20250909T174146Z
LAST-MODIFIED:20250909T174444Z
UID:10000018-1760796000-1760817600@www.stixsmokes.com
SUMMARY:Fall Pig Roast/BBQ
DESCRIPTION:Join us for our fall Pig Roast/BBQ! Meet Henderson Ventura owner of Adventura Cigars along with the best Adrian from The Cigar Culture! We will have great deals on all Adventura product! This is an event you cannot miss. Included in your ticket \n\nRoasted Pig\, BBQ food\, & Refreshments\n3 live bands throughout the day\nRaffles and giveaways! Herfador main prize!\nNetworking Opportunities
URL:https://www.stixsmokes.com/event/fall-pig-roast-bbq/
LOCATION:Stix Lounge\, 440 Route 23 North\, Pequannock\, NJ\, 07444\, United States
ATTACH;FMTTYPE=image/jpeg:https://www.stixsmokes.com/wp-content/uploads/2025/09/Fall-Pig-Roast-25.jpg
END:VEVENT
END:VCALENDAR